BEGIN:VCALENDAR
VERSION:2.0
PRODID:-//Tukios.com/
BEGIN:VEVENT
UID:d97deb3d-2857-492d-b3f0-27f11a48e1b4@www.pricefuneralhome.com
DTSTAMP:20260419T233455Z
DTSTART:20260422T160000Z
DTEND:20260422T170000Z
SUMMARY:Funeral Service
DESCRIPTION:
URL:https://www.pricefuneralhome.com/obituaries/cheryl-corum
LOCATION:Price Funeral Home, Inc. 252 E Green St  Lewisburg KY 42256
GEO:36.9871667;-86.9521683
END:VEVENT
END:VCALENDAR