BEGIN:VCALENDAR
VERSION:2.0
PRODID:-//Tukios.com/
BEGIN:VEVENT
UID:862e2b03-13fa-4a81-add0-a6d8518e98f8@www.pricefuneralhome.com
DTSTAMP:20260419T234227Z
DTSTART:20260422T150000Z
DTEND:20260422T160000Z
SUMMARY:Visitation
DESCRIPTION:
URL:https://www.pricefuneralhome.com/obituaries/cheryl-corum
LOCATION:Price Funeral Home, Inc. 252 E Green St  Lewisburg KY 42256
GEO:36.9871667;-86.9521683
END:VEVENT
END:VCALENDAR